BEGIN:VCALENDAR
VERSION:2.0
PRODID:-//Managementsystem-Anwendungen - ECPv6.15.20//NONSGML v1.0//EN
CALSCALE:GREGORIAN
METHOD:PUBLISH
X-WR-CALNAME:Managementsystem-Anwendungen
X-ORIGINAL-URL:https://www.ms-portal.ch
X-WR-CALDESC:Veranstaltungen für Managementsystem-Anwendungen
REFRESH-INTERVAL;VALUE=DURATION:PT1H
X-Robots-Tag:noindex
X-PUBLISHED-TTL:PT1H
BEGIN:VTIMEZONE
TZID:Europe/Zurich
BEGIN:DAYLIGHT
TZOFFSETFROM:+0100
TZOFFSETTO:+0200
TZNAME:CEST
DTSTART:20250330T010000
END:DAYLIGHT
BEGIN:STANDARD
TZOFFSETFROM:+0200
TZOFFSETTO:+0100
TZNAME:CET
DTSTART:20251026T010000
END:STANDARD
BEGIN:DAYLIGHT
TZOFFSETFROM:+0100
TZOFFSETTO:+0200
TZNAME:CEST
DTSTART:20260329T010000
END:DAYLIGHT
BEGIN:STANDARD
TZOFFSETFROM:+0200
TZOFFSETTO:+0100
TZNAME:CET
DTSTART:20261025T010000
END:STANDARD
BEGIN:DAYLIGHT
TZOFFSETFROM:+0100
TZOFFSETTO:+0200
TZNAME:CEST
DTSTART:20270328T010000
END:DAYLIGHT
BEGIN:STANDARD
TZOFFSETFROM:+0200
TZOFFSETTO:+0100
TZNAME:CET
DTSTART:20271031T010000
END:STANDARD
END:VTIMEZONE
BEGIN:VEVENT
DTSTART;TZID=Europe/Zurich:20260506T111500
DTEND;TZID=Europe/Zurich:20260506T114500
DTSTAMP:20260424T182648
CREATED:20260110T192446Z
LAST-MODIFIED:20260110T192446Z
UID:30842-1778066100-1778067900@www.ms-portal.ch
SUMMARY:Webinar "QM-Dokumentation verschlanken"
DESCRIPTION:
URL:https://www.ms-portal.ch/event/webinar-qm-dokumentation-verschlanken/
CATEGORIES:Webinar
END:VEVENT
END:VCALENDAR